BEGIN:VCALENDAR
VERSION:2.0
PRODID:-//THE RECORDSHOP - ECPv6.15.20//NONSGML v1.0//EN
CALSCALE:GREGORIAN
METHOD:PUBLISH
X-ORIGINAL-URL:https://therecshop.co.uk
X-WR-CALDESC:Events for THE RECORDSHOP
REFRESH-INTERVAL;VALUE=DURATION:PT1H
X-Robots-Tag:noindex
X-PUBLISHED-TTL:PT1H
BEGIN:VTIMEZONE
TZID:Europe/Paris
BEGIN:DAYLIGHT
TZOFFSETFROM:+0100
TZOFFSETTO:+0200
TZNAME:CEST
DTSTART:20240331T010000
END:DAYLIGHT
BEGIN:STANDARD
TZOFFSETFROM:+0200
TZOFFSETTO:+0100
TZNAME:CET
DTSTART:20241027T010000
END:STANDARD
BEGIN:DAYLIGHT
TZOFFSETFROM:+0100
TZOFFSETTO:+0200
TZNAME:CEST
DTSTART:20250330T010000
END:DAYLIGHT
BEGIN:STANDARD
TZOFFSETFROM:+0200
TZOFFSETTO:+0100
TZNAME:CET
DTSTART:20251026T010000
END:STANDARD
BEGIN:DAYLIGHT
TZOFFSETFROM:+0100
TZOFFSETTO:+0200
TZNAME:CEST
DTSTART:20260329T010000
END:DAYLIGHT
BEGIN:STANDARD
TZOFFSETFROM:+0200
TZOFFSETTO:+0100
TZNAME:CET
DTSTART:20261025T010000
END:STANDARD
END:VTIMEZONE
BEGIN:VEVENT
DTSTART;TZID=Europe/Paris:20250531T180000
DTEND;TZID=Europe/Paris:20250531T190000
DTSTAMP:20260422T011608
CREATED:20250507T145147Z
LAST-MODIFIED:20250531T150757Z
UID:4062-1748714400-1748718000@therecshop.co.uk
SUMMARY:Loop Pedal 101 Workshop - Eunice Keitan
DESCRIPTION:Unlock your creative potential with this Loop Pedal 101 Workshop! Learn the fundamentals of looping\, discover tips for crafting compelling loops and song arrangements\, and ignite your musicality through improvisation with diverse sounds and styles with loop artist Eunice Keitan\, on tour all the way from Canada! \n\nAbout the Artist/Instructor\n\nEunice Keitan is a Candian-Malaysian-Chinese artist who seamlessly blends her diverse cultural heritage into her music and draws inspiration from the places she has called home: Canada\, Malaysia\, Singapore\, and Colombia\, creating a rich Global-Soul sound \n  \nHer EP “Nuwa” garnered support from the Toronto Arts Council and subsequent touring from Ontario Arts Council\, and has been featured on outlets such as CBC Music\, BBC Radio\, The Toronto Guardian\, and Stereofox\, among others. \nEunice is known for her dual roles as both a band leader and a solo loop pedal artist. She is actively engaged within various musical and cultural communities\, including a “Looping for Women and Femmes” co-presented by Long & McQuade Musical Instruments. Eunice’s extensive touring schedule has taken her across Canada from Montreal to Vancouver\, and internationally from London to Berlin\, and New York to LA.
URL:https://therecshop.co.uk/event/loop-pedal-101-workshop-eunice-keitan/
LOCATION:The RecordShop\, Unit 17A The Mall\, London\, N22 6YQ\, United Kingdom
CATEGORIES:Free
ATTACH;FMTTYPE=image/jpeg:https://therecshop.co.uk/wp-content/uploads/2025/05/MockupBanner-TheRecShop-800x451-1.jpg
ORGANIZER;CN="The RecordShop":MAILTO:info@therecshop.co.uk
END:VEVENT
BEGIN:VEVENT
DTSTART;TZID=Europe/Paris:20250531T190000
DTEND;TZID=Europe/Paris:20250531T220000
DTSTAMP:20260422T011608
CREATED:20250124T153509Z
LAST-MODIFIED:20250124T154540Z
UID:3832-1748718000-1748728800@therecshop.co.uk
SUMMARY:The RecShop: Open Mic Sessions
DESCRIPTION:🎤 The RecShop: Open Mic Sessions! 🎶 \nReady to showcase your talent? Don’t miss your chance to perform in front of fellow musicians\, industry professionals\, and our vibrant local community! \n📍 Location:\nWe’re located on the first floor of The Mall\, right next to Burger King. \nCome share your passion and connect with the music community. \nWe can’t wait to see you there!
URL:https://therecshop.co.uk/event/the-recshop-open-mic-sessions-may-2025/
LOCATION:The RecordShop\, Unit 17A The Mall\, London\, N22 6YQ\, United Kingdom
CATEGORIES:Open Mic
ORGANIZER;CN="The RecordShop":MAILTO:info@therecshop.co.uk
END:VEVENT
END:VCALENDAR